BEGIN:VCALENDAR
VERSION:2.0
PRODID:-//pretix//pretix.eu//
BEGIN:VTIMEZONE
TZID:Europe/Berlin
BEGIN:STANDARD
DTSTART:20001029T040000
RRULE:FREQ=YEARLY;BYDAY=-1SU;BYMONTH=10
TZNAME:CET
TZOFFSETFROM:+0200
TZOFFSETTO:+0100
END:STANDARD
BEGIN:DAYLIGHT
DTSTART:20000326T030000
RRULE:FREQ=YEARLY;BYDAY=-1SU;BYMONTH=3
TZNAME:CEST
TZOFFSETFROM:+0100
TZOFFSETTO:+0200
END:DAYLIGHT
END:VTIMEZONE
BEGIN:VEVENT
UID:pretix-vcbwbrb-vo-1-frauen-4665062@vcbwbrb.vereinsticket.de
DTSTART;TZID=Europe/Berlin:20260307T190000
DTEND;TZID=Europe/Berlin:20260307T210000
DESCRIPTION:Tickets: https://vcbwbrb.vereinsticket.de/vo-1-frauen/4665062/\
 nVeranstalter: VC Blau-Weiß Brandenburg
DTSTAMP:20260425T125345Z
LOCATION:Dreifelderhalle Marienberg\, Willi-Sänger-Straße 77\, 14770 Bran
 denburg
SUMMARY:Regionalliga Nordost Frauen 2025/26 Heimspiel gegen SV Pädagogik S
 chönebeck
END:VEVENT
END:VCALENDAR
